BEGIN:VCALENDAR
VERSION:2.0
PRODID:-//Schulmanager Scraper//DE
X-WR-CALDESC:Stand: 2026-04-18 05:48 CEST (wöchentlich)
X-WR-CALNAME:Horststraße Schulkalender
X-PUBLISHED-TTL:P7D
X-WR-TIMEZONE:Europe/Berlin
BEGIN:VEVENT
SUMMARY:Osterferien
DTSTART;VALUE=DATE:20260330
DTEND;VALUE=DATE:20260413
UID:2d7d66abb5cbaa2fd77a1e3152812ad0@smo
END:VEVENT
BEGIN:VEVENT
SUMMARY:Bundesjugendspiele
DTSTART;VALUE=DATE:20260421
DTEND;VALUE=DATE:20260422
UID:eaa99d7f68f022db6496ac0cd034ea10@smo
END:VEVENT
BEGIN:VEVENT
SUMMARY:Osterferien
DTSTART;VALUE=DATE:20260412
DTEND;VALUE=DATE:20260413
UID:b89280b3f8d73c5ad05a6c2f9a93a228@smo
END:VEVENT
BEGIN:VEVENT
SUMMARY:Zartbitter "Ganz schön blöd": Stufe 3\, 4
DTSTART:20260415T080000Z
DTEND:20260415T093000Z
UID:e8df78a65a95a1747f130d478f8eba4f@smo
DESCRIPTION:JBR
END:VEVENT
BEGIN:VEVENT
SUMMARY:Christi Himmelfahrt
DTSTART;VALUE=DATE:20260514
DTEND;VALUE=DATE:20260515
UID:5a009edbde7223a83504769d90219ffa@smo
END:VEVENT
BEGIN:VEVENT
SUMMARY:Pfingstmontag
DTSTART;VALUE=DATE:20260525
DTEND;VALUE=DATE:20260526
UID:7e203a44a66e95002d2e2d0a784b971b@smo
END:VEVENT
BEGIN:VEVENT
SUMMARY:Pfingstferien
DTSTART;VALUE=DATE:20260526
DTEND;VALUE=DATE:20260527
UID:46251681e3151c819b6c471814ee60ab@smo
END:VEVENT
BEGIN:VEVENT
SUMMARY:Wandertag
DTSTART:20260519T060000Z
DTEND:20260519T130000Z
UID:daa9a7aa403a7a17e3268ede030be2ef@smo
END:VEVENT
BEGIN:VEVENT
SUMMARY:Spielefest 1/2
DTSTART:20260505T070000Z
DTEND:20260505T090000Z
UID:a7fad8b64ce56e1843dfe6628d84513a@smo
END:VEVENT
BEGIN:VEVENT
SUMMARY:Beweglicher Ferientag - OGS nach Anmeldung bis 15 Uhr geöffnet
DTSTART;VALUE=DATE:20260515
DTEND;VALUE=DATE:20260516
UID:8c0ae39701269a6f337a255ef9b7bfbf@smo
END:VEVENT
BEGIN:VEVENT
SUMMARY:Maifeiertag
DTSTART;VALUE=DATE:20260501
DTEND;VALUE=DATE:20260502
UID:72f55767ff73d9a28afaf038b1747f26@smo
END:VEVENT
BEGIN:VEVENT
SUMMARY:pädagogischer Ganztag
DTSTART:20260513T060000Z
DTEND:20260513T140000Z
UID:cff9d2bcbe49f8e9f9e7830907e617f4@smo
DESCRIPTION:Elterninfo 17.03.2026
END:VEVENT
BEGIN:VEVENT
SUMMARY:Zirkuswoche
DTSTART;VALUE=DATE:20260621
DTEND;VALUE=DATE:20260628
UID:2a2e3df25835bbb174b4a61f9caf3fa9@smo
END:VEVENT
BEGIN:VEVENT
SUMMARY:Fronleichnam
DTSTART;VALUE=DATE:20260604
DTEND;VALUE=DATE:20260605
UID:f24e7f280024c572ffec5eedb7f4b75c@smo
END:VEVENT
BEGIN:VEVENT
SUMMARY:Kennenlernnachmittag
DTSTART:20260611T143000Z
DTEND:20260611T160000Z
UID:899508b05e0bfb8167ff5a886685ccf9@smo
END:VEVENT
BEGIN:VEVENT
SUMMARY:Bundesjugendspiele Ersatz
DTSTART;VALUE=DATE:20260602
DTEND;VALUE=DATE:20260603
UID:c0a24ce6d74ec978e4567b9edf7c50a9@smo
END:VEVENT
BEGIN:VEVENT
SUMMARY:Beweglicher Ferientag - OGS nach Anmeldung bis 15 Uhr geöffnet
DTSTART;VALUE=DATE:20260605
DTEND;VALUE=DATE:20260606
UID:c3266fdb1105672ee44ffa40357efa76@smo
END:VEVENT
BEGIN:VEVENT
SUMMARY:unterrichtsfrei\, OGS Notbetreuung
DTSTART;VALUE=DATE:20260629
DTEND;VALUE=DATE:20260630
UID:15819a7fd493e4b10ce10002c0122e7c@smo
END:VEVENT
BEGIN:VEVENT
SUMMARY:OGS Pädagogischer Ganztag: Unterricht nach Stundenplan \, keine O
 GS
DTSTART;VALUE=DATE:20260619
DTEND;VALUE=DATE:20260620
UID:75cab395356575863a688acbd81baa3e@smo
END:VEVENT
BEGIN:VEVENT
SUMMARY:Sommerferien
DTSTART;VALUE=DATE:20260720
DTEND;VALUE=DATE:20260902
UID:f7b47ef1cb8aa6cca0677d28a1cf060c@smo
END:VEVENT
BEGIN:VEVENT
SUMMARY:Zeugnisausgabe\; Unterrichtsende 11 Uhr
DTSTART;VALUE=DATE:20260717
DTEND;VALUE=DATE:20260718
UID:a34b161232b814279acfbc11e97e3ff3@smo
END:VEVENT
BEGIN:VEVENT
SUMMARY:Einschulung
DTSTART;VALUE=DATE:20260903
DTEND;VALUE=DATE:20260904
UID:dcb72cf654e995ed5003fe3d44afd57c@smo
END:VEVENT
BEGIN:VEVENT
SUMMARY:1. Schultag  Klasse 2-4
DTSTART;VALUE=DATE:20260902
DTEND;VALUE=DATE:20260903
UID:e2b3524c1a4e112d9a8541a5ec0b4727@smo
END:VEVENT
BEGIN:VEVENT
SUMMARY:Herbstferien
DTSTART;VALUE=DATE:20261019
DTEND;VALUE=DATE:20261031
UID:ab20e83acbc6165e196b8a7807022f34@smo
END:VEVENT
BEGIN:VEVENT
SUMMARY:Weihnachtsferien
DTSTART;VALUE=DATE:20261223
DTEND;VALUE=DATE:20270107
UID:cef2aa508eb96e4204b4af9706aa85d5@smo
END:VEVENT
BEGIN:VEVENT
SUMMARY:Ausgabe Zeugnisse
DTSTART;VALUE=DATE:20270212
DTEND;VALUE=DATE:20270213
UID:ecf10e67d07af6444eb2c3777120c6d8@smo
END:VEVENT
BEGIN:VEVENT
SUMMARY:Osterferien
DTSTART:20270321T230000Z
DTEND:20270403T220000Z
UID:dfc91347e254d3f5e0da66c28efb9225@smo
END:VEVENT
END:VCALENDAR
